BEGIN:VCALENDAR
VERSION:2.0
PRODID:-//Artusiana Bike Forlimpopoli - ECPv6.2.0.1//NONSGML v1.0//EN
CALSCALE:GREGORIAN
METHOD:PUBLISH
X-WR-CALNAME:Artusiana Bike Forlimpopoli
X-ORIGINAL-URL:https://www.artusianabike.it
X-WR-CALDESC:Eventi per Artusiana Bike Forlimpopoli
REFRESH-INTERVAL;VALUE=DURATION:PT1H
X-Robots-Tag:noindex
X-PUBLISHED-TTL:PT1H
BEGIN:VTIMEZONE
TZID:Europe/Paris
BEGIN:DAYLIGHT
TZOFFSETFROM:+0100
TZOFFSETTO:+0200
TZNAME:CEST
DTSTART:20250330T010000
END:DAYLIGHT
BEGIN:STANDARD
TZOFFSETFROM:+0200
TZOFFSETTO:+0100
TZNAME:CET
DTSTART:20251026T010000
END:STANDARD
END:VTIMEZONE
BEGIN:VEVENT
DTSTART;TZID=Europe/Paris:20251108T080000
DTEND;TZID=Europe/Paris:20251108T130000
DTSTAMP:20260424T161341
CREATED:20251031T065933Z
LAST-MODIFIED:20251031T065933Z
UID:10000426-1762588800-1762606800@www.artusianabike.it
SUMMARY:AB Castel Bolognese\, Riolo Terme\, Mazzolano\, Imola\, Fontanelice\, Prugno\, Monte Coralli\, Faenza
DESCRIPTION:Sabato 8 novembre 2025 \nAB Castel Bolognese\, Riolo Terme\, Mazzolano\, Imola\, Fontanelice\, Prugno\, Monte Coralli\, Faenza \n  \nPartenza ore 8:00 Stazione di Servizio IP di Forlimpopoli. \n135km e dislivello 1.150 mt. \nhttps://www.strava.com/routes/3419189855132168262 \n  \nPercorso corto che dopo Imola affronta la Gallisterna poi Brisighella e Faenza \n115km e dislivello 950 mt. \nhttps://www.strava.com/routes/3419184819773956120
URL:https://www.artusianabike.it/evento/ab-castel-bolognese-riolo-terme-mazzolano-imola-fontanelice-prugno-monte-coralli-faenza/
END:VEVENT
END:VCALENDAR