BEGIN:VCALENDAR
VERSION:2.0
PRODID:-//Artusiana Bike Forlimpopoli - ECPv6.2.0.1//NONSGML v1.0//EN
CALSCALE:GREGORIAN
METHOD:PUBLISH
X-ORIGINAL-URL:https://www.artusianabike.it
X-WR-CALDESC:Eventi per Artusiana Bike Forlimpopoli
REFRESH-INTERVAL;VALUE=DURATION:PT1H
X-Robots-Tag:noindex
X-PUBLISHED-TTL:PT1H
BEGIN:VTIMEZONE
TZID:Europe/Paris
BEGIN:DAYLIGHT
TZOFFSETFROM:+0100
TZOFFSETTO:+0200
TZNAME:CEST
DTSTART:20250330T010000
END:DAYLIGHT
BEGIN:STANDARD
TZOFFSETFROM:+0200
TZOFFSETTO:+0100
TZNAME:CET
DTSTART:20251026T010000
END:STANDARD
END:VTIMEZONE
BEGIN:VEVENT
DTSTART;TZID=Europe/Paris:20251206T090000
DTEND;TZID=Europe/Paris:20251206T133000
DTSTAMP:20260424T140747
CREATED:20251110T073509Z
LAST-MODIFIED:20251201T120935Z
UID:10000429-1765011600-1765027800@www.artusianabike.it
SUMMARY:AB San Marino - Verucchio
DESCRIPTION:Sabato 6 dicembre 2025 \nAB San Marino – Verucchio \n  \nPartenza ore 9:00 Stazione di Servizio IP di Forlimpopoli. \n120 km e dislivello 900 mt. \nhttps://www.strava.com/routes/3430526489649524054 \n  \nGiro corto che a Savignano va verso Santa Paola e poi Longiano \n85 km e dislivello 550 mt. \nhttps://www.strava.com/routes/3430524743395163924 \n  \n 
URL:https://www.artusianabike.it/evento/ab-san-piero-in-bagno-acquapartita/
END:VEVENT
END:VCALENDAR