BEGIN:VCALENDAR
VERSION:2.0
PRODID:-//Artusiana Bike Forlimpopoli - ECPv6.2.0.1//NONSGML v1.0//EN
CALSCALE:GREGORIAN
METHOD:PUBLISH
X-WR-CALNAME:Artusiana Bike Forlimpopoli
X-ORIGINAL-URL:https://www.artusianabike.it
X-WR-CALDESC:Eventi per Artusiana Bike Forlimpopoli
REFRESH-INTERVAL;VALUE=DURATION:PT1H
X-Robots-Tag:noindex
X-PUBLISHED-TTL:PT1H
BEGIN:VTIMEZONE
TZID:Europe/Paris
BEGIN:DAYLIGHT
TZOFFSETFROM:+0100
TZOFFSETTO:+0200
TZNAME:CEST
DTSTART:20250330T010000
END:DAYLIGHT
BEGIN:STANDARD
TZOFFSETFROM:+0200
TZOFFSETTO:+0100
TZNAME:CET
DTSTART:20251026T010000
END:STANDARD
END:VTIMEZONE
BEGIN:VEVENT
DTSTART;TZID=Europe/Paris:20251227T090000
DTEND;TZID=Europe/Paris:20251227T133000
DTSTAMP:20260424T161955
CREATED:20251218T135636Z
LAST-MODIFIED:20251218T135636Z
UID:10000433-1766826000-1766842200@www.artusianabike.it
SUMMARY:AB San Benedetto in alpe
DESCRIPTION:Sabato 27 dicembre 2025 \nAB San Benedetto in alpe \n  \nPartenza ore 9:00 Stazione di Servizio IP di Forlimpopoli. \nGiro soft alla portata di tutti per smaltire in compagnia pranzi e cene \n100 km e dislivello 700 mt. \n  \n 
URL:https://www.artusianabike.it/evento/ab-san-benedetto-in-alpe/
END:VEVENT
BEGIN:VEVENT
DTSTART;TZID=Europe/Paris:20251220T090000
DTEND;TZID=Europe/Paris:20251220T133000
DTSTAMP:20260424T161955
CREATED:20251215T132627Z
LAST-MODIFIED:20251215T132627Z
UID:10000432-1766221200-1766237400@www.artusianabike.it
SUMMARY:AB Sarsina - Sant'Agata Feltria - Botticella - Novafeltria - Passo del grillo
DESCRIPTION:Sabato 20 dicembre 2025 \nAB Sarsina – Sant’Agata Feltria – Botticella – Novafeltria – Passo del grillo \n  \nPartenza ore 9:00 Stazione di Servizio IP di Forlimpopoli. \n115 km e dislivello 1300 mt. \nhttps://www.strava.com/routes/3435635724135632030 \n  \nGiro corto che a Sarsina fa Monte finocchio e poi Bertinoro \n85 km e dislivello 1000 mt. \nhttps://www.strava.com/routes/3435635724133883038 \n  \n 
URL:https://www.artusianabike.it/evento/ab-sarsina-santagata-feltria-botticella-novafeltria-passo-del-grillo/
END:VEVENT
BEGIN:VEVENT
DTSTART;TZID=Europe/Paris:20251213T090000
DTEND;TZID=Europe/Paris:20251213T133000
DTSTAMP:20260424T161955
CREATED:20251201T121640Z
LAST-MODIFIED:20251201T121640Z
UID:10000430-1765616400-1765632600@www.artusianabike.it
SUMMARY:AB Modigliana - Tredozio - Monte Busca
DESCRIPTION:Sabato 13 dicembre 2025 \nAB Modigliana – Tredozio – Monte Busca \n  \nPartenza ore 9:00 Stazione di Servizio IP di Forlimpopoli. \n120 km e dislivello 900 mt. \nhttps://www.strava.com/routes/3430521518569659156 \n  \nGiro corto che fa Brisighella – Monticino – Villa Vezzano \n92 km e dislivello 700 mt. \nhttps://www.strava.com/routes/3430521518570451732 \n  \n 
URL:https://www.artusianabike.it/evento/ab-modigliana-tredozio-monte-busca/
END:VEVENT
BEGIN:VEVENT
DTSTART;TZID=Europe/Paris:20251208T090000
DTEND;TZID=Europe/Paris:20251208T120000
DTSTAMP:20260424T161955
CREATED:20251204T145758Z
LAST-MODIFIED:20251204T145758Z
UID:10000431-1765184400-1765195200@www.artusianabike.it
SUMMARY:AB Colline Cesenati
DESCRIPTION:Lunedì 8 dicembre 2025 \nAB Colline Cesenati \n  \nPartenza ore 9:00 BRN Forlimpopoli. \nGiro da definire tra i presenti \n 
URL:https://www.artusianabike.it/evento/ab-colline-cesenati/
END:VEVENT
BEGIN:VEVENT
DTSTART;TZID=Europe/Paris:20251206T090000
DTEND;TZID=Europe/Paris:20251206T133000
DTSTAMP:20260424T161955
CREATED:20251110T073509Z
LAST-MODIFIED:20251201T120935Z
UID:10000429-1765011600-1765027800@www.artusianabike.it
SUMMARY:AB San Marino - Verucchio
DESCRIPTION:Sabato 6 dicembre 2025 \nAB San Marino – Verucchio \n  \nPartenza ore 9:00 Stazione di Servizio IP di Forlimpopoli. \n120 km e dislivello 900 mt. \nhttps://www.strava.com/routes/3430526489649524054 \n  \nGiro corto che a Savignano va verso Santa Paola e poi Longiano \n85 km e dislivello 550 mt. \nhttps://www.strava.com/routes/3430524743395163924 \n  \n 
URL:https://www.artusianabike.it/evento/ab-san-piero-in-bagno-acquapartita/
END:VEVENT
BEGIN:VEVENT
DTSTART;TZID=Europe/Paris:20251129T083000
DTEND;TZID=Europe/Paris:20251129T130000
DTSTAMP:20260424T161955
CREATED:20251110T073134Z
LAST-MODIFIED:20251127T124654Z
UID:10000428-1764405000-1764421200@www.artusianabike.it
SUMMARY:AB Diga di Ridracoli
DESCRIPTION:Sabato 29 novembre 2025 \nAB Diga di Ridracoli \n  \nPartenza ore 8:30 Stazione di Servizio IP di Forlimpopoli. \n105 km e dislivello 1.100 mt. \nhttps://www.strava.com/routes/3422843188919683254
URL:https://www.artusianabike.it/evento/ab-diga-di-ridracoli/
END:VEVENT
BEGIN:VEVENT
DTSTART;TZID=Europe/Paris:20251115T083000
DTEND;TZID=Europe/Paris:20251115T133000
DTSTAMP:20260424T161955
CREATED:20251103T065947Z
LAST-MODIFIED:20251110T073208Z
UID:10000427-1763195400-1763213400@www.artusianabike.it
SUMMARY:AB Pisignano - Savignano - Sogliano al Rubicone - Perticara - Sarsina - Forlimpopoli
DESCRIPTION:Sabato 15 novembre 2025 \nAB Pisignano – Savignano – Sogliano al Rubicone – Perticara – Sarsina – Forlimpopoli \n  \nPartenza ore 8:30 Stazione di Servizio IP di Forlimpopoli. \n135km e dislivello 1.400 mt. \nhttps://www.strava.com/routes/3420314619284809516 \n  \nPercorso corto che dopo Sogliano cala il Barbotto e rientra a Forlimpopoli \n105km e dislivello 1.000 mt. \nhttps://www.strava.com/routes/3420315793329788604
URL:https://www.artusianabike.it/evento/ab-pisignano-savignano-sogliano-al-rubicone-perticara-sarsina-forlimpopoli/
END:VEVENT
BEGIN:VEVENT
DTSTART;TZID=Europe/Paris:20251108T080000
DTEND;TZID=Europe/Paris:20251108T130000
DTSTAMP:20260424T161955
CREATED:20251031T065933Z
LAST-MODIFIED:20251031T065933Z
UID:10000426-1762588800-1762606800@www.artusianabike.it
SUMMARY:AB Castel Bolognese\, Riolo Terme\, Mazzolano\, Imola\, Fontanelice\, Prugno\, Monte Coralli\, Faenza
DESCRIPTION:Sabato 8 novembre 2025 \nAB Castel Bolognese\, Riolo Terme\, Mazzolano\, Imola\, Fontanelice\, Prugno\, Monte Coralli\, Faenza \n  \nPartenza ore 8:00 Stazione di Servizio IP di Forlimpopoli. \n135km e dislivello 1.150 mt. \nhttps://www.strava.com/routes/3419189855132168262 \n  \nPercorso corto che dopo Imola affronta la Gallisterna poi Brisighella e Faenza \n115km e dislivello 950 mt. \nhttps://www.strava.com/routes/3419184819773956120
URL:https://www.artusianabike.it/evento/ab-castel-bolognese-riolo-terme-mazzolano-imola-fontanelice-prugno-monte-coralli-faenza/
END:VEVENT
BEGIN:VEVENT
DTSTART;TZID=Europe/Paris:20251101T080000
DTEND;TZID=Europe/Paris:20251101T130000
DTSTAMP:20260424T161955
CREATED:20251022T065015Z
LAST-MODIFIED:20251031T070023Z
UID:10000425-1761984000-1762002000@www.artusianabike.it
SUMMARY:AB Brisighella\, Marradi\, San Benedetto in alpe\, Forlì
DESCRIPTION:Sabato 1 novembre 2025 \nAB AB Brisighella\, Marradi\, San Benedetto in alpe\, Forlì \n  \nPartenza ore 8:00 da BRN a Forlimpopoli\, direzione Brisighella\, Marradi e Passo dell’eremo\, scendiamo a San Benedetto e ci raduniamo. \nRientro diretto verso Forli’\, Forlimpopoli. \n135km e dislivello 1.400 mt. \nhttps://www.strava.com/routes/3415917781880048060 \n  \nPercorso corto che prima di Sant’Adriano va in direzione di Modigliana e fa il Monte Beccuggiano. \n115km e dislivello 900 mt. \nhttps://www.strava.com/routes/3415916924073959868
URL:https://www.artusianabike.it/evento/ab-brisighella-marradi-san-benedetto-in-alpe-forli/
END:VEVENT
BEGIN:VEVENT
DTSTART;TZID=Europe/Paris:20251025T080000
DTEND;TZID=Europe/Paris:20251025T130000
DTSTAMP:20260424T161955
CREATED:20251020T123545Z
LAST-MODIFIED:20251023T035454Z
UID:10000424-1761379200-1761397200@www.artusianabike.it
SUMMARY:AB Spinello\, Passo del Carnaio\, Acquapartita\, Bertinoro
DESCRIPTION:Sabato 25 ottobre 2025 \nAB Spinello\, Passo del Carnaio\, Acquapartita\, Bertinoro \n  \nPartenza ore 8:00 Stazione di Servizio IP di Forlimpopoli\, direzione Borello poi prendiamo a destra verso Spinello\, ci si raduna poi\, Passo del Carnaio\, Acquapartita e un Bertinoro! \n125km e dislivello 1.800 mt. \nhttps://www.strava.com/routes/3415270501684084460 \n  \nPercorso corto che a Spinello si divide e rientra da Santa Sofia. \n95km e dislivello 1200 mt. \nhttps://www.strava.com/routes/3415274551259048782
URL:https://www.artusianabike.it/evento/ab-spinello-passo-del-carnaio-acquapartita-bertinoro/
END:VEVENT
END:VCALENDAR