BEGIN:VCALENDAR
VERSION:2.0
PRODID:-//Artusiana Bike Forlimpopoli - ECPv6.2.0.1//NONSGML v1.0//EN
CALSCALE:GREGORIAN
METHOD:PUBLISH
X-WR-CALNAME:Artusiana Bike Forlimpopoli
X-ORIGINAL-URL:https://www.artusianabike.it
X-WR-CALDESC:Eventi per Artusiana Bike Forlimpopoli
REFRESH-INTERVAL;VALUE=DURATION:PT1H
X-Robots-Tag:noindex
X-PUBLISHED-TTL:PT1H
BEGIN:VTIMEZONE
TZID:Europe/Paris
BEGIN:DAYLIGHT
TZOFFSETFROM:+0100
TZOFFSETTO:+0200
TZNAME:CEST
DTSTART:20250330T010000
END:DAYLIGHT
BEGIN:STANDARD
TZOFFSETFROM:+0200
TZOFFSETTO:+0100
TZNAME:CET
DTSTART:20251026T010000
END:STANDARD
END:VTIMEZONE
BEGIN:VEVENT
DTSTART;TZID=Europe/Paris:20251227T090000
DTEND;TZID=Europe/Paris:20251227T133000
DTSTAMP:20260424T155452
CREATED:20251218T135636Z
LAST-MODIFIED:20251218T135636Z
UID:10000433-1766826000-1766842200@www.artusianabike.it
SUMMARY:AB San Benedetto in alpe
DESCRIPTION:Sabato 27 dicembre 2025 \nAB San Benedetto in alpe \n  \nPartenza ore 9:00 Stazione di Servizio IP di Forlimpopoli. \nGiro soft alla portata di tutti per smaltire in compagnia pranzi e cene \n100 km e dislivello 700 mt. \n  \n 
URL:https://www.artusianabike.it/evento/ab-san-benedetto-in-alpe/
END:VEVENT
END:VCALENDAR